BEGIN:VCALENDAR
VERSION:2.0
PRODID:-//Sistema del Diseño Humano - ECPv6.14.2//NONSGML v1.0//EN
CALSCALE:GREGORIAN
METHOD:PUBLISH
X-WR-CALNAME:Sistema del Diseño Humano
X-ORIGINAL-URL:https://sistemahumano.com
X-WR-CALDESC:Eventos para Sistema del Diseño Humano
REFRESH-INTERVAL;VALUE=DURATION:PT1H
X-Robots-Tag:noindex
X-PUBLISHED-TTL:PT1H
BEGIN:VTIMEZONE
TZID:Europe/Madrid
BEGIN:DAYLIGHT
TZOFFSETFROM:+0100
TZOFFSETTO:+0200
TZNAME:CEST
DTSTART:20160327T010000
END:DAYLIGHT
BEGIN:STANDARD
TZOFFSETFROM:+0200
TZOFFSETTO:+0100
TZNAME:CET
DTSTART:20161030T010000
END:STANDARD
END:VTIMEZONE
BEGIN:VEVENT
DTSTART;TZID=Europe/Madrid:20160521T100000
DTEND;TZID=Europe/Madrid:20160522T170000
DTSTAMP:20260422T161100
CREATED:20160217T083434Z
LAST-MODIFIED:20160420T100754Z
UID:771-1463824800-1463936400@sistemahumano.com
SUMMARY:Descubre el escenario de tu trayectoria de vida
DESCRIPTION:Seguramente te has preguntado muchas veces por qué se repiten esas sensaciones\, dificultades en mis relaciones y porque me encuentro siempre con el mismo tipo de obstáculos para conseguir los objetivos que me planteo. \nEn este encuentro podrás reconocer por ti mism@ las señales que aparecen en tu camino personal  e integrarlas de forma natural\, como parte de un proceso que te guía para que adquieras las habilidades que te van a permitir despertar\, tomar consciencia del potencial único de tu verdadero Ser. Al tiempo que podrás reconocer\, en que medida\, el condicionamiento de tú No-Ser ha distorsionado el modo de percibir la realidad\, y por consiguiente\, tu capacidad de VER la singularidad de tu trayectoria de vida.\n \n\nLos ejes de los nodos lunares te van a dar las pautas de los temas más trascendentes que van a estar como telón de fondo en tu proceso de maduración. También te muestran como se va transformando tu visión en la búsqueda de referencias\, señales … que den consistencia a tu vida. El nodo Sur siempre determina de dónde venimos y el nodo Norte determina a dónde vamos.\nLas claves mecánicas de tu diseño te muestran la naturaleza de tu vehículo\, y la posición de los nodos de la luna viene a definir tu forma de VER\, tu percepción del mundo\, dentro de un viaje que tiene siempre su propio movimiento. \nEl no encontrar respuestas claras\, va mermar la fuerza y confianza que necesitas para tomar decisiones en tu vida y saber por dónde enfocar tu crecimiento personal\, reconocer aquellos aspectos de tu día a día que puedes mejorar\, para disfrutar más de ti mism@\, para sentir una mayor satisfacción por todo el esfuerzo que has realizado. \n\nEn realidad las respuestas están ya dentro de ti\, forman parte del equipaje con el que viniste\, solo necesitas integrar las señales que la vida te puso en el camino\, para ver que todo\, absolutamente todo\, forma parte de la ilusión desde la que dibujas tu realidad. Y al mismo tiempo\, que es precisamente esa realidad y no otra\, la que te permite realizarte\, despertar al propósito que te trajo a este mundo. \n \nEste taller pretende ofrecerte experiencias para el encuentro con tu propio entendimiento\, para que serenes tu espíritu y puedas sentirte partícipe\, consciente\, del rumbo de tu vida\, liberar las cargas del pasado y mirar hacia delante\, con mayor confianza y amor hacia ti mism@. \nSe trata de un trabajo grupal en el que podrás compartir tus sensaciones y aprender las claves que dan forma a tu escenario de vida personal y sobre todo saber dónde buscar las respuestas … cuando te plantees ¿dónde estoy?\, ¿hacía dónde voy?\, ¿para qué …? \nDirigido a personas que hayan entrado en contacto con su diseño\, a través de un análisis personalizado y/o el auto-estudio de sus mecánicas. \nLas plazas son limitadas. El precio incluye el taller\, la PC y el acceso a la piscina termal (desde el sábado por la mañana a la comida del domingo\, en habitación doble.  \nCoste total 260 euros. Inscripciones hasta el 12 de mayo 240 euros.Suplemento de 15 euros\, para hab. individual).  \n+ información a inscripciones: escueladeraves@gmail.com   Tel. 696 99 97 98 \n 
URL:https://sistemahumano.com/event/771/
LOCATION:Balneario de Sicilia\, Ctra. Calmarza\, km 1\, Jaraba (Zaragoza)\, 50237\, España
CATEGORIES:Curso
ATTACH;FMTTYPE=image/jpeg:https://sistemahumano.com/wp-content/uploads/2016/04/Camino.jpg
ORGANIZER;CN="Rashna Manero y Sergio Ferrari":MAILTO:escueladeraves@gmail.com
END:VEVENT
END:VCALENDAR