BEGIN:VCALENDAR
VERSION:2.0
PRODID:-//Sistema del Diseño Humano - ECPv6.14.2//NONSGML v1.0//EN
CALSCALE:GREGORIAN
METHOD:PUBLISH
X-ORIGINAL-URL:https://sistemahumano.com
X-WR-CALDESC:Eventos para Sistema del Diseño Humano
REFRESH-INTERVAL;VALUE=DURATION:PT1H
X-Robots-Tag:noindex
X-PUBLISHED-TTL:PT1H
BEGIN:VTIMEZONE
TZID:Europe/Madrid
BEGIN:DAYLIGHT
TZOFFSETFROM:+0100
TZOFFSETTO:+0200
TZNAME:CEST
DTSTART:20170326T010000
END:DAYLIGHT
BEGIN:STANDARD
TZOFFSETFROM:+0200
TZOFFSETTO:+0100
TZNAME:CET
DTSTART:20171029T010000
END:STANDARD
END:VTIMEZONE
BEGIN:VEVENT
DTSTART;TZID=Europe/Madrid:20170408T100000
DTEND;TZID=Europe/Madrid:20170409T140000
DTSTAMP:20260423T083713
CREATED:20170131T203002Z
LAST-MODIFIED:20170201T214650Z
UID:1415-1491645600-1491746400@sistemahumano.com
SUMMARY:LA TRAYECTORIA DE TU CAMINO PERSONAL
DESCRIPTION:¿Te preguntas por qué se repite amenudo esa sensación de dificultad para fluir con el ambiente que te rodea? o ¿por qué te encuentras siempre con el mismo tipo de obstáculos para conseguir los objetivos que te planteas?  El no encontrar respuestas claras\, va mermar la fuerza y la confianza que necesitas para tomar decisiones en tu vida y saber dónde enfocar tu crecimiento.  \nEn este encuentro podrás conocer las señales que definen el camino correcto para ti y cómo integrarlas de un modo natural\, como parte de un proceso que te guía hacia tu realización y contribución única. También podrás observar\, en qué medida\, el condicionamiento de tú No-Ser intenta escapar de esas dificultades\, identificándose con los obstáculos y por consiguiente\, te está alejando de ese camino\, el único que te permite despertar a tu verdadero potencial en la vida. \n\nLos ejes de los nodos lunares te van a dar las pautas de los temas más trascendentes que van a estar como telón de fondo en tu proceso de maduración. También te muestran como se va transformando tu visión en la búsqueda de referencias\, señales … que den consistencia a tu vida. El nodo Sur siempre determina de dónde venimos y el nodo Norte determina a dónde vamos.\n Las claves mecánicas de tu diseño te muestran la naturaleza de tu vehículo y la posición de los nodos de la luna viene a mostrar a qué eres especialmente sensible\, cómo es tu forma de VER el mundo\, dentro de un viaje que tiene siempre su propio movimiento. \n\nEn realidad las respuestas están ya dentro de ti\, forman parte del equipaje con el que viniste\, solo necesitas integrar las señales que la vida te puso en el camino\, para ver que todo\, absolutamente todo\, forma parte de la ilusión desde la que dibujas tu realidad. Y al mismo tiempo\, que es precisamente esa realidad y no otra\, la que te permite realizarte\, despertar al propósito que te trajo a este mundo. \nEste taller pretende ofrecerte experiencias para el encuentro con tu propio entendimiento\, para que serenes tu espíritu y puedas sentirte partícipe\, consciente\, del rumbo de tu vida\, liberar las cargas del pasado y mirar hacia delante con mayor confianza y amor hacia ti mism@. \nSe trata de un trabajo grupal en el que podrás compartir tus sensaciones y sobre todo\, saber dónde buscar las respuestas … cuando te plantees ¿dónde estoy?\, ¿hacía dónde voy?\, ¿para qué …? \nDirigido a personas que hayan entrado en contacto con su diseño\, a través de un análisis personalizado y/o el auto-estudio de sus mecánicas. \nCoste total 110 euros. Inscripciones hasta el 04 de abril. Las plazas son limitadas \n+ información: info@sistemahumano.com  Inscripciones: rellena este formulario \nFacilitadora: Rashna Manero. Profesora certificada por la IHDS \n 
URL:https://sistemahumano.com/event/trayectoria_nodal/
LOCATION:Alt Benestar Instituto de Formación Integrativa\, Cuenca\, 6\, Valencia\, Valencia\, 46007\, España
CATEGORIES:Taller vivencial
ATTACH;FMTTYPE=image/jpeg:https://sistemahumano.com/wp-content/uploads/LosNodos1.jpg
ORGANIZER;CN="Rashna Manero y Sergio Ferrari":MAILTO:escueladeraves@gmail.com
END:VEVENT
END:VCALENDAR