BEGIN:VCALENDAR
VERSION:2.0
PRODID:-//Sistema del Diseño Humano - ECPv6.14.2//NONSGML v1.0//EN
CALSCALE:GREGORIAN
METHOD:PUBLISH
X-ORIGINAL-URL:https://sistemahumano.com
X-WR-CALDESC:Eventos para Sistema del Diseño Humano
REFRESH-INTERVAL;VALUE=DURATION:PT1H
X-Robots-Tag:noindex
X-PUBLISHED-TTL:PT1H
BEGIN:VTIMEZONE
TZID:Europe/Madrid
BEGIN:DAYLIGHT
TZOFFSETFROM:+0100
TZOFFSETTO:+0200
TZNAME:CEST
DTSTART:20170326T010000
END:DAYLIGHT
BEGIN:STANDARD
TZOFFSETFROM:+0200
TZOFFSETTO:+0100
TZNAME:CET
DTSTART:20171029T010000
END:STANDARD
END:VTIMEZONE
BEGIN:VEVENT
DTSTART;TZID=Europe/Madrid:20170929T180000
DTEND;TZID=Europe/Madrid:20171001T140000
DTSTAMP:20260422T222016
CREATED:20170807T173427Z
LAST-MODIFIED:20170901T122321Z
UID:1650-1506708000-1506866400@sistemahumano.com
SUMMARY:VIVIR tu DISEÑO en Sitges - Barcelona
DESCRIPTION:Eres únic@ y solo tú puedes encontrar la verdad correcta para ti. \nEl Sistema del Diseño Humano transforma la forma de comprender quién eres\, de tomar decisiones en la vida\, de mirar el mundo\, abriéndote a una dimensión completamente nueva del valor de cada ser humano y su integración con el medio que le rodea. \nAdentrarte en las mecánicas de este Sistema es muy gratificante ya que te permite comenzar tu propia exploración\, comprobaras su utilidad desde el primer momento\, en los dilemas que te surgen en el día a día y en especial notarás un cambio en tu modo de relacionarte\, de responder a las demandas de los demás  ….. Te ayudará a liberarte de esa imagen prestada que te has forjado de ti mism@\, producto de una cultura y educación homogeneizada\, para que recobres la confianza en tu fuente natural de sabiduría. Conoce lo que el Diseño Humano puede ofrecerte. \nEl primer paso es VIVIR TU DISEÑO\, una comprensión de cómo cada ser humano experimenta la realidad de una forma diferente\, en función de su energía vital\, de su definición y de cómo procesa el condicionamiento externo. No existimos por separado\, vivimos inmersos en un Universo en movimiento en el que constantemente estamos emitiendo y recibiendo información a nivel celular \nEste nivel de información sobre SHD es accesible a cualquier persona y aporta las claves más importantes para poner en práctica tu propio experimento\, desde el primer momento. \nSíntesis de contenidos:  \n– Introducción a su origen \n– El cuerpo gráfico y sus elementos \n– La naturaleza de los centros. \n– Definición y apertura. Nuestra forma diferenciada \n– Los cuatro tipos genéticos\, su propósito existencial. \n– El reconocimiento de su aura y forma de integrarse. \n– La estrategia de cada tipo: manifestador\, generador\, proyector\, reflector. \n– El miedo básico de cada tipo genético. \n– Los principios de la autoridad interna y externa. \n– La relación entre los tipos y el impacto sistémico en los grupos. \nCoste del curso 220 euros. Para inscripciones hasta el 20 de septiembre 190 euros. Está incluido el contenido del curso en formato vídeo. 10 sesiones de 90 minutos y sesiones extra de ejercicios prácticos.  \nLUGAR: Opcional: alojamiento y pensión completa desde el viernes día 29 (cena) al domingo día 1 (comida) en La Casa Rural La Casseta: coste 120 euros. \nSi has realizado este taller y quieres conocer otro estilo\, otra mirada … tienes un dto. del 50%. Para quienes hayan realizado este taller con Rashna Manero\, en formato on line o presencial es coste es de tan solo de 40 euros. \nPara INSCRIBIRTE\, rellena el siguiente formulario: Formulario de inscripción   \nContacto: info@sistemahumano.com  Tel. 696 99 97 98  \nMATERIAL:  manual del estudiante de Vivir tu Diseño (formato pdf)\, que se puede adquirir a través de la tienda on line humandesignhispania.com \n HORARIO:  Viernes 29 de septiembre de 19 a 21 h. Sábado 01 de octubre\, de 10 a 13\,30 h y de 16 a 19 h y domingo de 10 a 14 h. \nREQUISITOS: \n\nNo hay requisitos previos. \nSi deseas tener una visión global de las claves mecánicas del cuerpo gráfico\, de un diseño\, el libro publicado por la Editorial Gaia presenta una introducción muy completa al Sistema del Diseño Humano. Autora: Lynda Bunnell\, directora de la Escuela Internacional de Diseño Humano y traducido al español por Iñaki Moraza\, director de la Oficina de Diseño Humano Hispania. Se puede adquirir en librerías o a través de la tienda on line de la Oficina de Diseño Humano España. office@humandesignhispania.com\n\nIMPARTIDO POR: Rashna Manero\, analista y profesora certificada por la IHDS http://www.ihdschool.com/ \nPROGRAMA DE FORMACIÓN OFICIAL Y CERTIFICADO. Comienzo en el mes de noviembre del I nivel del programa de formación general\, el ABC del Rave y en febrero del 2018 el II nivel\, la Cartografía del Rave.  \n  \n  \n 
URL:https://sistemahumano.com/event/vivir-tu-diseno-en-barcelona/
LOCATION:Casa Rural La Casetta\, Barri Les Torres\, 3\, Sitges\, Barcelona\, 08810\, España
CATEGORIES:Curso,Taller vivencial
ATTACH;FMTTYPE=image/jpeg:https://sistemahumano.com/wp-content/uploads/VTD_Sitges_3.jpg
END:VEVENT
BEGIN:VEVENT
DTSTART;TZID=Europe/Madrid:20171006T183000
DTEND;TZID=Europe/Madrid:20171008T140000
DTSTAMP:20260422T222016
CREATED:20170827T200312Z
LAST-MODIFIED:20170925T231038Z
UID:1668-1507314600-1507471200@sistemahumano.com
SUMMARY:VIVIR tu DISEÑO en Etxalar - Navarra
DESCRIPTION:Eres únic@ y solo tú puedes encontrar la verdad correcta para ti. \nEl Sistema del Diseño Humano transforma la forma de comprender quién eres\, de tomar decisiones en la vida\, de mirar el mundo\, abriéndote a una dimensión completamente nueva del valor de cada ser humano y su integración con el medio que le rodea. \nAdentrarte en las mecánicas de este Sistema es muy gratificante ya que te permite comenzar tu propia exploración\, comprobaras su utilidad desde el primer momento\, en los dilemas que te surgen en el día a día y en especial notarás un cambio en tu modo de relacionarte\, de responder a las demandas de los demás  ….. Te ayudará a liberarte de esa imagen prestada que te has forjado de ti mism@\, producto de una cultura y educación homogeneizada\, para que recobres la confianza en tu fuente natural de sabiduría. Conoce lo que el Diseño Humano puede ofrecerte. \nEl primer paso es VIVIR TU DISEÑO\, una comprensión de cómo cada ser humano experimenta la realidad de una forma diferente\, en función de su energía vital\, de su definición y de cómo procesa el condicionamiento externo. No existimos por separado\, vivimos inmersos en un Universo en movimiento en el que constantemente estamos emitiendo y recibiendo información a nivel celular \nEste nivel de información sobre SHD es accesible a cualquier persona y aporta las claves más importantes para poner en práctica tu propio experimento\, desde el primer momento. \nSíntesis de contenidos:  \n– Introducción a su origen \n– El cuerpo gráfico y sus elementos \n– La naturaleza de los centros. \n– Definición y apertura. Nuestra forma diferenciada \n– Los cuatro tipos genéticos\, su propósito existencial. \n– El reconocimiento de su aura y forma de integrarse. \n– La estrategia de cada tipo: manifestador\, generador\, proyector\, reflector. \n– El miedo básico de cada tipo genético. \n– Los principios de la autoridad interna y externa. \n– La relación entre los tipos y el impacto sistémico en los grupos. \nCoste del curso 320 euros. Para inscripciones hasta el 25 de septiembre 290 euros. Incluida pensión completa en la Casa Rural y el contenido del curso en formato vídeo. 10 sesiones de 90 minutos que se enviarán en el momento de formalizar el pago del curso. \nLUGAR: Ecoturismo Rural. Mokorreko Borda. Al pie del monte Aizkolegui. http://www.casarural-eco.eus/es/index.php \nSi has realizado este taller y quieres conocer otro estilo\, otra mirada … tienes un dto. del 50%. Para quienes hayan realizado este taller con Rashna Manero\, en formato on line o presencial es coste es de tan solo de 40 euros y los gastos de alojamiento. \n+ información e inscripciones\, contacta con Cristina: cristinargia@hotmail.com Tel. 675 71 77 91  \nMATERIAL:  manual del estudiante de Vivir tu Diseño (formato pdf)\, que se puede adquirir a través de la tienda on line: humandesignhispania.com \nHORARIO:  Viernes 6 de octubre de 18\,30 a 20\,30 h. Sábado 07 de 10 a 13\,30 h y de 16 a 19 h y domingo 08\, de 10 a 14 h. \nIMPORTANTE: lleva impreso el gráfico de tu Diseño\, podrás obtenerlo gratis en: http://www.humandesignhispania.com/Cartas \nREQUISITOS: \n\nNo hay requisitos previos. \nSi deseas tener una visión global de las claves mecánicas del cuerpo gráfico\, de un diseño\, el libro publicado por la Editorial Gaia presenta una introducción muy completa al Sistema del Diseño Humano. Autora: Lynda Bunnell\, directora de la Escuela Internacional de Diseño Humano y traducido al español por Iñaki Moraza\, director de la Oficina de Diseño Humano Hispania. Se puede adquirir en librerías o a través de la tienda on line de la Oficina de Diseño Humano España. office@humandesignhispania.com\n\nIMPARTIDO POR: Rashna Manero\, analista y profesora certificada por la IHDS:  http://www.ihdschool.com/ \nPROGRAMA DE FORMACIÓN OFICIAL Y CERTIFICADA \nComienzo en el mes de noviembre del I nivel del programa de formación general\, el ABC del Rave y en febrero del 2018 el II nivel\, la Cartografía del Rave.  \n  \n  \n 
URL:https://sistemahumano.com/event/vivir-tu-diseno-en-etxalar/
LOCATION:Etxalar – Navarra\, Larrapil\, 23\, Etxalar\, Navarra\, 31760\, España
CATEGORIES:Curso,Taller vivencial
ATTACH;FMTTYPE=image/gif:https://sistemahumano.com/wp-content/uploads/Etxalar2-1.gif
END:VEVENT
BEGIN:VEVENT
DTSTART;TZID=Europe/Madrid:20171027T180000
DTEND;TZID=Europe/Madrid:20171029T140000
DTSTAMP:20260422T222016
CREATED:20170829T000302Z
LAST-MODIFIED:20170903T143603Z
UID:1682-1509127200-1509285600@sistemahumano.com
SUMMARY:Vivir tu Dieño en Tenerife
DESCRIPTION:«Todo empieza por amar tu propia forma\, cuando descubres la perfección de lo que ya eres» \nEl Sistema del Diseño Humano transforma la forma de comprender quién eres\, de tomar decisiones en la vida\, de mirar el mundo\, abriéndote a una dimensión completamente nueva del valor de cada ser humano y su integración con el medio que le rodea.  \nAdentrarte en las mecánicas de este Sistema es muy gratificante ya que te permite comenzar tu propia exploración\, comprobaras su utilidad desde el primer momento\, en los dilemas que te surgen en el día a día y en especial notarás un cambio en tu modo de relacionarte\, de responder a las demandas de los demás  ….. Te ayudará a liberarte de esa imagen prestada que te has forjado de ti mism@\, producto de una cultura y educación homogeneizada\, para que recobres la confianza en tu fuente natural de sabiduría. Conoce lo que el diseño humano puede ofrecerte. \nEl primer paso es VIVIR TU DISEÑO\, una comprensión de cómo cada ser humano experimenta la realidad de una forma diferente\, en función de su energía vital\, de su definición y de cómo procesa el condicionamiento externo. No existimos por separado\, vivimos inmersos en un Universo en movimiento en el que constantemente estamos emitiendo y recibiendo información a nivel celular \nEres únic@ y solo tú puedes encontrar la verdad correcta para ti.  \nEste nivel de información sobre SHD es accesible a cualquier persona y aporta las claves más importantes para poner en práctica tu propio experimento\, desde el primer momento. \nSíntesis de contenidos:  \n– Introducción a su origen \n– El cuerpo gráfico y sus elementos \n– La naturaleza de los centros. \n– Definición y apertura. Nuestra forma diferenciada \n– Los cuatro tipos genéticos\, su propósito existencial. \n– El reconocimiento de su aura y forma de integrarse. \n– La estrategia de cada tipo: manifestador\, generador\, proyector\, reflector. \n– El miedo básico de cada tipo genético. \n– Los principios de la autoridad interna y externa. \n– La relación entre los tipos y el impacto sistémico en los grupos. \nCoste del curso 220 euros. Para inscripciones hasta el 13 de octubre precio especial 190 euros. \nSi has realizado este taller y quieres conocer otro estilo\, otra mirada … tienes un dto. del 50%. Para quienes hayan realizado este taller con Rashna Manero\, en formato on line o presencial el coste es de tan solo de 40 euros. \n+ info – INSCRIPCIONES: \nSergio Las Lagunetas  Tel. 696 97 72 52   E-mail: sergiotrujilloperez@yahoo.es \nFECHAS y HORARIO: \nOctubre\, viernes 28 de 18 a 20 h\, sábado de 10 a 13\,30 h y de 16 a 19 h\, domingo de 10 a 14 h. \nMATERIAL: Se dará acceso en el momento de la inscripción a visionar todo el contenido del curso en formato vídeo. 10 sesiones de 90 minutos y sesiones extra de ejercicios prácticos. Incluido en el precio. \n\nSe recomienda como material básico de estudio\, para este nivel de la formación\, el manual del estudiante de Vivir tu Diseño (formato pdf)\, que se puede adquirir a través de la tienda on line humandesignhispania.com \n\n REQUISITOS: \n\nNo hay requisitos previos. \nSi deseas tener una visión global de las claves mecánicas del cuerpo gráfico\, de un diseño\, el libro publicado por la Editorial Gaia presenta una introducción muy completa al Sistema del Diseño Humano. Autora: Lynda Bunnell\, directora de la Escuela Internacional de Diseño Humano y traducido al español por Iñaki Moraza\, director de la Oficina de Diseño Humano Hispania. Se puede adquirir en librerías o a través de la tienda on line de la Oficina de Diseño Humano España. office@humandesignhispania.com\n\nPROGRAMA DE FORMACIÓN OFICIAL Y CERTIFICADO \nComienzo en el mes de noviembre del I nivel del programa de formación general\, el ABC del Rave y en la primavera 2017 el II nivel\, la Cartografía del Rave. Conoce el itinerario educativo.  \n  \nIMPARTIDO POR:  Rashna Manero\, profesora certificada por la IHDS y Alejandra Perciavalle «Guía de Vivir tu Diseño» \n 
URL:https://sistemahumano.com/event/vivir-dieno-tenerife-2/
LOCATION:Mundo Corominas\, C/ Galcerán\, 7-9\, Santa Cruz de Tenerife\, Tenerife\, España
CATEGORIES:Curso,Taller vivencial
ATTACH;FMTTYPE=image/jpeg:https://sistemahumano.com/wp-content/uploads/VTD_Tenerife.jpg
END:VEVENT
END:VCALENDAR