BEGIN:VCALENDAR
VERSION:2.0
PRODID:-//Sistema del Diseño Humano - ECPv6.14.2//NONSGML v1.0//EN
CALSCALE:GREGORIAN
METHOD:PUBLISH
X-WR-CALNAME:Sistema del Diseño Humano
X-ORIGINAL-URL:https://sistemahumano.com
X-WR-CALDESC:Eventos para Sistema del Diseño Humano
REFRESH-INTERVAL;VALUE=DURATION:PT1H
X-Robots-Tag:noindex
X-PUBLISHED-TTL:PT1H
BEGIN:VTIMEZONE
TZID:Europe/Madrid
BEGIN:DAYLIGHT
TZOFFSETFROM:+0100
TZOFFSETTO:+0200
TZNAME:CEST
DTSTART:20190331T010000
END:DAYLIGHT
BEGIN:STANDARD
TZOFFSETFROM:+0200
TZOFFSETTO:+0100
TZNAME:CET
DTSTART:20191027T010000
END:STANDARD
END:VTIMEZONE
BEGIN:VEVENT
DTSTART;TZID=Europe/Madrid:20190531T183000
DTEND;TZID=Europe/Madrid:20190602T183000
DTSTAMP:20260421T163723
CREATED:20190407T232621Z
LAST-MODIFIED:20220425T205046Z
UID:2820-1559327400-1559500200@sistemahumano.com
SUMMARY:Perfil y color. El rol y su motivación
DESCRIPTION:La estructura que vemos en el cuerpo gráfico de nuestro diseño\, formada por centros\, canales y puertas … nos está mostrando las mecánicas de nuestra naturaleza. Pero toda esta estructura se expresa a través de un rol\, un traje con el que vestimos nuestro personaje\, el perfil. \nVeremos las cualidades  y atributos de cada uno de los 12 perfiles y los arquetipos o figuras con las que podemos asociar su potencial más profundo.  Se trata de un trabajo que va más allá de nuestras intenciones y a través del cual hacemos nuestra contribución más genuina a los demás. \nVer el artículo sobre los 6 Arquetipos del perfil: Enlace al Blog \nEn este curso nos adentraremos también en explorar la motivación de ese rol\, lo que en el diseño humano denominamos el color\, la información que hay bajo la superficie de tu perfil\, de la línea de tu sol/tierra de diseño (rojo) y de personalidad (negro). Ver la superficie nos da una extraordinaria visión de la naturaleza del ser humano\, pero se trata de la naturaleza de la mecánica\, de la superficie\, la dimensión del color nos adentra en la motivación desde la que nos movemos y filtramos la realidad.  \nPara inscribirte facilita tus datos en este FORMULARIO DE INSCRIPCIÓN   \nDirigido a estudiantes o personas que tengan un conocimiento general del Sistema del Diseño Humano\, que hayan realizado cómo mínimo el curso de Vivir su Diseño y el ABC del Rave. \nImpartido por Rashna Manero\, profesora certificada por la IHDS. Contacto: info@sistemahumano.com \nFechas: del 31 de mayo al 2 de junio. Viernes de 18\,30 a 20\,30 h. Sábado de 10 a 20 h (con pausa para comer)\, y domingo de 10 a 14 h. \nLugar: Asociación La Isla. c/ Alguer\, 1. 460022 Valencia.  Plazas limitadas. \n¿Cuáles son los roles que estás destinado a cumplir a través de la exaltación de tu Perfil? \nEl Perfil nos apunta a cada uno hacia un rol que podemos cumplir dentro de nuestro propósito de vida. A medida que desarrollamos\, podemos crecer en las características de ese Perfil que es nuestro atuendo\, ese que hemos nacido para vestir y definir de modo único. \nEl Color es el mecanismo de subestructura que hace posible de diferenciar aun más la cualidad de estos roles del Perfil y así comenzar a experimentar los matices que trascienden las descripciones básicas de las Líneas de nuestras activaciones del eje Sol/Tierra. Con esta toma de consciencia conjunta de la Línea y del Color\, podemos personificar la expresión diferenciada de nuestro auténtico Arquetipo de Perfil. \n“Todos estamos aquí para ser maestros\, gurús\, sacerdotes\, profetas\, mensajeros y Budas unos para otros. Sin que ninguna de estos roles sean otros que panadero o fabricante de candeleros. Tenemos roles muy específicos y en el cumplimiento de esos roles yace el poder de no solo vivir la vida que es correcta sino de poder enriquecer las vidas de los demás.”— Ra Uru Hu \nArtículos y conferencias sobre el PERFIL \nHexagramas\, Perfiles\, y Armonías \n \nTranscripción de la conferencia que ofreció Ra\, en el 2011\, sobre las cualidades de cada una de las 6 líneas del perfil de personalidad: ROLES Y PERFIL DE LA PERSONALIDAD \n  \n 
URL:https://sistemahumano.com/event/perfil-y-color-el-rol-y-su-motivacion/
LOCATION:Alt Benestar Instituto de Formación Integrativa\, Cuenca\, 6\, Valencia\, Valencia\, 46007\, España
CATEGORIES:Curso,Taller vivencial
ATTACH;FMTTYPE=image/png:https://sistemahumano.com/wp-content/uploads/1perfilYcolor.png
END:VEVENT
END:VCALENDAR