BEGIN:VCALENDAR
VERSION:2.0
PRODID:-//Sistema del Diseño Humano - ECPv6.14.2//NONSGML v1.0//EN
CALSCALE:GREGORIAN
METHOD:PUBLISH
X-ORIGINAL-URL:https://sistemahumano.com
X-WR-CALDESC:Eventos para Sistema del Diseño Humano
REFRESH-INTERVAL;VALUE=DURATION:PT1H
X-Robots-Tag:noindex
X-PUBLISHED-TTL:PT1H
BEGIN:VTIMEZONE
TZID:Europe/Madrid
BEGIN:DAYLIGHT
TZOFFSETFROM:+0100
TZOFFSETTO:+0200
TZNAME:CEST
DTSTART:20190331T010000
END:DAYLIGHT
BEGIN:STANDARD
TZOFFSETFROM:+0200
TZOFFSETTO:+0100
TZNAME:CET
DTSTART:20191027T010000
END:STANDARD
END:VTIMEZONE
BEGIN:VEVENT
DTSTART;TZID=Europe/Madrid:20191018T183000
DTEND;TZID=Europe/Madrid:20191020T140000
DTSTAMP:20260421T105502
CREATED:20190623T180825Z
LAST-MODIFIED:20220425T204801Z
UID:2985-1571423400-1571580000@sistemahumano.com
SUMMARY:VIVIR tu DISEÑO en Santa Maria D'Oló (Barcelona)
DESCRIPTION:Eres únic@ y solo tú puedes encontrar la verdad correcta para ti. \nEl Sistema del Diseño Humano transforma la forma de comprender quién eres\, de tomar decisiones en la vida\, de mirar el mundo\, abriéndote a una dimensión completamente nueva del valor de cada ser humano y su integración con el medio que le rodea. \n+ Contacto: info@sistemahumano.com \nAdentrarte en las mecánicas de este Sistema es muy gratificante ya que te permite comenzar tu propia exploración\, comprobaras su utilidad desde el primer momento\, en los dilemas que te surgen en el día a día y en especial notarás un cambio en tu modo de relacionarte\, de responder a las demandas de los demás  ….. Te ayudará a liberarte de esa imagen prestada que te has forjado de ti mism@\, producto de una cultura y educación homogeneizada\, para que recobres la confianza en tu fuente natural de sabiduría. Conoce lo que el Diseño Humano puede ofrecerte. \nEl primer paso es VIVIR TU DISEÑO\, una comprensión de cómo cada ser humano experimenta la realidad de una forma diferente\, en función de su energía vital\, de su definición y de cómo procesa el condicionamiento externo. No existimos por separado\, vivimos inmersos en un Universo en movimiento en el que constantemente estamos emitiendo y recibiendo información a nivel celular \nEste nivel de información sobre SHD es accesible a cualquier persona y aporta las claves más importantes para poner en práctica tu propio experimento\, desde el primer momento. \nSíntesis de contenidos:  \n– Introducción a su origen \n– El cuerpo gráfico y sus elementos \n– La naturaleza de los centros. \n– Definición y apertura. Nuestra forma diferenciada \n– Los cuatro tipos genéticos\, su propósito existencial. \n– El reconocimiento de su aura y forma de integrarse. \n– La estrategia de cada tipo: manifestador\, generador\, proyector\, reflector. \n– El miedo básico de cada tipo genético. \n– Los principios de la autoridad interna y externa. \n– La relación entre los tipos y el impacto sistémico en los grupos. \nReserva tu plaza: INSCRIPCIÓN   \nSi has realizado este taller y quieres conocer otro estilo\, otra mirada … tienes un dto. del 50% sobre el precio del curso.  \n+ Contacto: info@sistemahumano.com   \nMATERIAL:  manual del estudiante de Vivir tu Diseño (formato pdf)\, que se puede adquirir a través de la tienda on line: humandesignhispania.com \nHORARIO:  Viernes 18 de octubre\, de 18\,30 a 20\,30 h. Sábado 19\, de 10 a 14 h y de 16 a 19\,30 h y domingo 20\, de 10 a 14 h. \nLUGAR:  Can Carmenteras\, accede a su web: Can Carmenteras situada en el corazón del bosque de Santa Maria d’Oló: \nIMPORTANTE: lleva impreso el gráfico de tu Diseño\, podrás obtenerlo gratis en: http://www.humandesignhispania.com/Cartas \nREQUISITOS: \n\nNo hay requisitos previos. \nSi deseas tener una visión global de las claves mecánicas del cuerpo gráfico\, de un diseño\, el libro publicado por la Editorial Gaia presenta una introducción muy completa al Sistema del Diseño Humano. Autora: Lynda Bunnell\, directora de la Escuela Internacional de Diseño Humano y traducido al español por Iñaki Moraza\, director de la Oficina de Diseño Humano Hispania. Se puede adquirir en librerías o a través de la tienda on line de la Oficina de Diseño Humano España. office@humandesignhispania.com\n\nIMPARTIDO POR: Rashna Manero\, analista y profesora certificada por la IHDS:  http://www.ihdschool.com/ \nPROGRAMA DE FORMACIÓN OFICIAL Y CERTIFICADA \nComienzo en enero del 2020 del programa oficial de Formación\, en formato on line y la opción de encuentros presenciales.  Enero a marzo el I nivel\, el ABC del Rave\,  de abril a junio el II nivel\, la Cartografía del Rave. \n \n \n 
URL:https://sistemahumano.com/event/vivir-tu-diseno-en-santa-maria-d-olo/
LOCATION:Can Armenteras\, Armenteras de Baix\, 1\, Santa María d'Oló\, Barcelona\, 08273\, España
CATEGORIES:Curso,Programa de formación,Taller vivencial
ATTACH;FMTTYPE=image/png:https://sistemahumano.com/wp-content/uploads/VTD-1.png
ORGANIZER;CN="Dise%C3%B1o Humano con Rashna Manero":MAILTO:info@sistemahumano.com
END:VEVENT
END:VCALENDAR